Workbook

Sheet CONSULTAS DR.
A1: Atendido | B1: Consultas Psiquiatricas EXTERNAS
A2: No Atendido | B2: Mes: SEGUNDO SEMESTRE 2025
A3: SEPTIEMBRE
A4: Fecha | B4: Hora | C4: Paciente | D4: Total | E4: Forma de Pago | F4: Comentario | H4: Tipo de consulta
A5: 45902 | B5: 0.38194444 | C5: Orfeo Sandoval | D5: 800 | E5: Deposito | H5: {=_xlfn.IFS(D5<=700,"Seguimiento",D5=800,"Primera")} -> Primera
A6: 45902 | B6: 0.42361111 | C6: Luis Fernando Barrera | D6: 700 | E6: Transferencia | F6: NIT 6690203 | H6: {=_xlfn.IFS(D6<=700,"Seguimiento",D6=800,"Primera")} -> Seguimiento
A7: 45902 | B7: 0.55555556 | C7: Marco Tulio Cheverria | D7: 800 | E7: Efectivo | F7: NIT 14245310 MARCO TULIO CHAVARRIA | H7: {=_xlfn.IFS(D7<=700,"Seguimiento",D7=800,"Primera")} -> Primera
A8: 45903 | B8: 0.43055556 | C8: Armando Ramírez | D8: 800 | E8: Transferencia | F8: NIT CF | H8: {=_xlfn.IFS(D8<=700,"Seguimiento",D8=800,"Primera")} -> Primera
A9: 45905 | B9: 0.38194444 | C9: Bryan Allen Bosch | D9: 700 | E9: Transferencia | F9: NIT CF | H9: {=_xlfn.IFS(D9<=700,"Seguimiento",D9=800,"Primera")} -> Seguimiento
A10: 45905 | B10: 0.42361111 | C10: Estuardo Cruz | D10: 700 | E10: Transferencia | F10: NIT 49617664 | H10: {=_xlfn.IFS(D10<=700,"Seguimiento",D10=800,"Primera")} -> Seguimiento
A11: 45905 | B11: 0.46180556 | C11: Mario Castro | D11: 700 | E11: Transferencia | F11: NIT CF | H11: {=_xlfn.IFS(D11<=700,"Seguimiento",D11=800,"Primera")} -> Seguimiento
A12: 45905 | B12: 0.52083333 | C12: Cristian Vasquez | D12: 800 | E12: Transferencia | F12: NITCF | H12: {=_xlfn.IFS(D12<=700,"Seguimiento",D12=800,"Primera")} -> Primera
A13: 45906 | B13: 0.38541667 | C13: Felipe Hernandez | D13: 700 | E13: Transferencia | F13: NIT 89511476 | H13: {=_xlfn.IFS(D13<=700,"Seguimiento",D13=800,"Primera")} -> Seguimiento
A14: 45909 | B14: 0.46875 | C14: Marvin Guerra | D14: 700 | E14: Transferencia | F14: NIT 9392912 | H14: Seguimiento
A15: 45911 | B15: 0.39375 | C15: Carlos Lopez | D15: 700 | E15: Transferencia | G15: NIT 7571546-5 | H15: {=_xlfn.IFS(D15<=700,"Seguimiento",D15=800,"Primera")} -> Seguimiento
A16: 45911 | B16: 0.42708333 | C16: Isay Caberera | D16: 700 | E16: Efectivo | G16: NIT 1240182-K | H16: {=_xlfn.IFS(D16<=700,"Seguimiento",D16=800,"Primera")} -> Seguimiento
A17: 45912 | B17: 0.45833333 | C17: Mario Castro | D17: 700 | E17: Transferencia | F17: NIT CF | H17: Seguimiento
A18: 45912 | B18: 0.083333333 | C18: Marta Gramajo | D18: 700 | E18: Transferencia | F18: NIT 9464980 | H18: {=_xlfn.IFS(D18<=700,"Seguimiento",D18=800,"Primera")} -> Seguimiento
A19: 45916 | B19: 0.41666667 | C19: Esmeralda de León | D19: 700 | E19: Transferencia | F19: NIT 40748936 | H19: {=_xlfn.IFS(D19<=700,"Seguimiento",D19=800,"Primera")} -> Seguimiento
A20: 45917 | B20: 0.41666667 | C20: Mercedes Godinez | D20: 700 | E20: Transferencia | F20: NIT 91943752 | H20: {=_xlfn.IFS(D20<=700,"Seguimiento",D20=800,"Primera")} -> Seguimiento
A21: 45917 | B21: 0.46527778 | C21: Ana Samayoa | D21: 700 | E21: Transferencia | F21: NIT CF | H21: {=_xlfn.IFS(D21<=700,"Seguimiento",D21=800,"Primera")} -> Seguimiento
A22: 45917 | B22: 0.5 | C22: Luis Emilio Chavez | D22: 700 | E22: Transferencia | F22: NIT CF | H22: {=_xlfn.IFS(D22<=700,"Seguimiento",D22=800,"Primera")} -> Seguimiento
A23: 45919 | B23: 0.055555556 | C23: Daniela Orella | D23: 700 | E23: Transferencia | F23: NIT | H23: {=_xlfn.IFS(D23<=700,"Seguimiento",D23=800,"Primera")} -> Seguimiento
A24: 45919 | B24: 0.09375 | C24: Marlón Garea | D24: 700 | E24: Transferencia | F24: NIT CF | H24: {=_xlfn.IFS(D24<=700,"Seguimiento",D24=800,"Primera")} -> Seguimiento
A25: 45919 | B25: 0.17430556 | C25: Ingrid Davila | D25: 800 | E25: Transferencia | F25: NIT CF | H25: {=_xlfn.IFS(D25<=700,"Seguimiento",D25=800,"Primera")} -> Primera
A26: 45920 | B26: 0.38611111 | C26: Andrea Lima | D26: 700 | E26: Transferencia | F26: NIT CF | H26: {=_xlfn.IFS(D26<=700,"Seguimiento",D26=800,"Primera")} -> Seguimiento
A27: 45922 | B27: 0.39375 | C27: Iris Rodas | D27: 700 | E27: Transferencia | F27: NIT CF | H27: {=_xlfn.IFS(D27<=700,"Seguimiento",D27=800,"Primera")} -> Seguimiento
A28: 45922 | B28: 0.43055556 | C28: Nohelia Guevara | D28: 800 | E28: Transferencia | F28: NIT CF | H28: {=_xlfn.IFS(D28<=700,"Seguimiento",D28=800,"Primera")} -> Primera
A29: 45923 | B29: 0.48194444 | C29: Miguel Ruano | D29: 800 | E29: Transferencia | F29: NIT CF | H29: {=_xlfn.IFS(D29<=700,"Seguimiento",D29=800,"Primera")} -> Primera
... A34: 45929 | B34: 0.41666667 | C34: Tathiana Hernandez (Virtual) | D34: 700 | E34: Transferencia | F34: CF | H34: {=_xlfn.IFS(D34<=700,"Seguimiento",D34=800,"Primera")} -> Seguimiento
H35: {=_xlfn.IFS(D35<=700,"Seguimiento",D35=800,"Primera")} -> Seguimiento
H36: {=_xlfn.IFS(D36<=700,"Seguimiento",D36=800,"Primera")} -> Seguimiento
H37: Seguimiento
H38: {=_xlfn.IFS(D38<=700,"Seguimiento",D38=800,"Primera")} -> Seguimiento
H39: {=_xlfn.IFS(D39<=700,"Seguimiento",D39=800,"Primera")} -> Seguimiento
H40: {=_xlfn.IFS(D40<=700,"Seguimiento",D40=800,"Primera")} -> Seguimiento
H41: {=_xlfn.IFS(D41<=700,"Seguimiento",D41=800,"Primera")} -> Seguimiento
H42: {=_xlfn.IFS(D42<=700,"Seguimiento",D42=800,"Primera")} -> Seguimiento
H43: {=_xlfn.IFS(D43<=700,"Seguimiento",D43=800,"Primera")} -> Seguimiento
H44: {=_xlfn.IFS(D44<=700,"Seguimiento",D44=800,"Primera")} -> Seguimiento
...

Sheet CONSULTAS PSICOLOGICAS
A1: Consultas Psicologicas EXTERNA | L1: Individual | M1: 285
A2: SEGUNDO SEMESTRE 2025 | L2: Pareja | M2: 500
A3: SEPTIEMBRE | L3: Familiar | M3: 500
A4: Fecha | B4: Hora | C4: Paciente | D4: Tipo de Consulta | E4: Total | F4: Forma de Pago | G4: Comentario | J4: Terapeuta
A5: 45901 | B5: 0.58333333 | C5: Ally Griselly Montufar | D5: Individual | E5: 285 | F5: Transferencia | G5: CF | I5: Primera | J5: Tzuny
A6: 45905 | B6: 0.42708333 | C6: Anderson Gudiel | D6: Individual | E6: 285 | F6: Efectivo | G6: CF | I6: =F31 -> Seguimiento | J6: Tzuny
A7: 45908 | B7: 0.45833333 | C7: Erick Muralles | D7: Individual | E7: 285 | F7: Transferencia | G7: CF | I7: Seguimiento | J7: Tzuny
A8: 45908 | B8: 0.625 | C8: Sofia Pineda | D8: Individual | E8: 285 | F8: Transferencia | G8: CF | I8: Seguimiento | J8: Tzuny
A9: 45912 | B9: 0.45833333 | C9: Daniela Orellana | D9: Individual | E9: 285 | F9: Transferencia | G9: CF | I9: Seguimiento | J9: Tzuny
A10: 45918 | B10: 0.09375 | C10: Sebastian Rodriguez | D10: Individual | E10: 285 | F10: Transferencia | G10: CF | I10: Individual | J10: Tzuny
A11: 45918 | B11: 0.68055556 | C11: Ally Griselly Montufar | D11: Individual | E11: 285 | F11: Transferencia | G11: CF | I11: Seguimiento | J11: Tzuny
A12: 45919 | B12: 0.42708333 | C12: Anderson Gudiel | D12: Individual | E12: 285 | F12: Efectivo | G12: CF | I12: Seguimiento | J12: Tzuny
A13: 45919 | B13: 0.50694444 | C13: Sofia Pineda | D13: Individual | E13: 285 | F13: Transferencia | G13: CF | I13: Seguimiento | J13: Tzuny
A14: 45923 | B14: 0.17708333 | C14: Steven Monroy | D14: Individual | E14: 285 | F14: Efectivo | G14: CF | I14: Primera | J14: Tzuny
D28: TOTAL | E28: =SUM(E5:E27) -> 2850
C30: Individual | D30: =COUNTIF(D5:D27,C30) -> 10 | F30: Primera | G30: =COUNTIF(I5:I27,F30) -> 2 | I30: Luciana | J30: =COUNTIF(J5:J27,I30) -> 0
C31: Familiar | D31: =COUNTIF(D5:D27,C31) -> 0 | F31: Seguimiento | G31: =COUNTIF(I5:I28,F31) -> 7 | I31: Tzuny | J31: =COUNTIF(J5:J27,I31) -> 10
C32: Pareja | D32: =COUNTIF(D5:D27,C32) -> 0 | G32: =G31*41 -> 287
A35: AGOSTO | L35: Familiar | M35: 500
A36: Fecha | B36: Hora | C36: Paciente | D36: Tipo de Consulta | E36: Total | F36: Forma de Pago | G36: Comentario | J36: Terapeuta
A37: 45871 | B37: 0.41666667 | C37: Abner Esteban | D37: Individual | E37: 285 | F37: Transferencia | I37: =F53 -> Seguimiento | J37: Tzuny
A38: 45873 | B38: 0.66666667 | C38: Anthony Cruz | D38: Individual | E38: 285 | F38: Transferencia | I38: =F52 -> Primera | J38: Luciana
A39: 45874 | B39: 0.5 | C39: Mario Madrid | D39: Individual | E39: 285 | F39: Transferencia | G39: NIT: 32436270 | I39: =F53 -> Seguimiento | J39: Luciana
A40: 45875 | B40: 0.41666667 | C40: Anderson Gudiel | D40: Individual | E40: 285 | F40: Efectivo | G40: CF | I40: =F53 -> Seguimiento | J40: Luciana
A41: 45880 | B41: 0.375 | C41: Javier Perez | D41: Individual | E41: 285 | F41: Deposito | G41: CF | I41: =F52 -> Primera | J41: Tzuny
A42: 45880 | B42: 0.45833333 | C42: Erick Muralles | D42: Individual | E42: 285 | F42: Transferencia | G42: NIT: 2992125-8 | I42: =F53 -> Seguimiento | J42: Tzuny
A43: 45883 | B43: 0.625 | C43: Andrea Lima | D43: Individual | E43: 285 | F43: Efectivo | G43: NIT 51951193 Karla Salazar | I43: =F52 -> Primera | J43: Tzuny
A44: 45887 | B44: 0.39583333 | C44: Isabela Echeverría | D44: Individual | E44: 285 | F44: Transferencia | G44: CF | I44: =F52 -> Primera | J44: Tzuny
A45: 45889 | B45: 0.375 | C45: Armando Bermudez | D45: Individual | E45: 285 | F45: Efectivo | G45: NIT: 71232028 Veronica Tobar | I45: Seguimiento | J45: Tzuny
A46: 45889 | B46: 0.41666667 | C46: Anderson Gudiel | D46: Individual | E46: 285 | F46: Efectivo | G46: CF | I46: Seguimiento | J46: Tzuny
A47: 45891 | B47: 0.5 | C47: Sofía Pineda | D47: Individual | E47: 285 | F47: Efectivo | G47: NIT: 9598785-1 | I47: Seguimiento | J47: Tzuny
A48: 45892 | B48: 0.41666667 | C48: Abner Esteban | D48: Individual | E48: 285 | F48: Efectivo | G48: CF | I48: Seguimiento | J48: Tzuny
A49: 45897 | B49: 0.66666667 | C49: Isabella Echeverría | D49: Individual | E49: 285 | F49: Transferencia | G49: CF | I49: Seguimiento | J49: Tzuny
D50: TOTAL | E50: =SUM(E37:E49) -> 3705
C52: Individual | D52: =COUNTIF(D37:D49,C52) -> 13 | F52: Primera | G52: =COUNTIF(I37:I49,F52) -> 4 | I52: Luciana | J52: =COUNTIF(J37:J49,I52) -> 3
C53: Familiar | D53: =COUNTIF(D37:D49,C53) -> 0 | F53: Seguimiento | G53: =COUNTIF(I37:I50,F53) -> 9 | I53: Tzuny | J53: =COUNTIF(J37:J49,I53) -> 10
C54: Pareja | D54: =COUNTIF(D37:D49,C54) -> 0 | G54: =G53*41 -> 369
A57: JULIO | L57: Familiar | M57: 500
A58: Fecha | B58: Hora | C58: Paciente | D58: Tipo de Consulta | E58: Total | F58: Forma de Pago | G58: Comentario | J58: Terapeuta
A59: 45841 | B59: 0.33333333 | C59: Carlos Alvarez | D59: Individual | E59: 285 | F59: Transferencia | G59: NIT: 110409892 Ruth Alvarez | I59: Seguimiento | J59: Luciana
...

Sheet Resumen
A1: COEX Doctor Luis Dardón
A2: MES | B2: Primera | C2: Reconsulta | D2: Ventas | E2: Crecimiento
A3: Enero | B3: ='CONSULTAS DR.'!H274 -> 3 | C3: ='CONSULTAS DR.'!H273 -> 15 | D3: ='CONSULTAS DR.'!D272 -> 11980 | E3: =(D3-12200)/ABS(12200) -> -0.018032787
A4: Febrero | B4: ='CONSULTAS DR.'!H250 -> 5 | C4: ='CONSULTAS DR.'!H249 -> 6 | D4: ='CONSULTAS DR.'!D248 -> 7420 | E4: =(D4-D3)/ABS(D3) -> -0.38063439
A5: Marzo | B5: ='CONSULTAS DR.'!H233 -> 7 | C5: ='CONSULTAS DR.'!H232 -> 17 | D5: ='CONSULTAS DR.'!D231 -> 18100 | E5: =(D5-D4)/ABS(D4) -> 1.4393531
A6: Abril | B6: ='CONSULTAS DR.'!H203 -> 6 | C6: ='CONSULTAS DR.'!H202 -> 15 | D6: ='CONSULTAS DR.'!D201 -> 16000 | E6: =(D6-D5)/ABS(D5) -> -0.1160221
A7: Mayo | B7: ='CONSULTAS DR.'!H176 -> 6 | C7: ='CONSULTAS DR.'!H175 -> 19 | D7: ='CONSULTAS DR.'!D174 -> 18700 | E7: =(D7-D6)/ABS(D6) -> 0.16875
A8: Junio | B8: ='CONSULTAS DR.'!H145 -> 5 | C8: ='CONSULTAS DR.'!H144 -> 13 | D8: ='CONSULTAS DR.'!D143 -> 13100 | E8: =(D8-D7)/ABS(D7) -> -0.29946524
A9: Julio | B9: ='CONSULTAS DR.'!H120 -> 6 | C9: ='CONSULTAS DR.'!H119 -> 13 | D9: ='CONSULTAS DR.'!D118 -> 13900 | E9: =(D9-D8)/ABS(D8) -> 0.061068702
A10: Agosto | B10: ='CONSULTAS DR.'!H95 -> 10 | C10: ='CONSULTAS DR.'!H94 -> 26 | D10: ='CONSULTAS DR.'!D93 -> 27000 | E10: =(D10-D9)/ABS(D9) -> 0.94244604
A11: Septiembre | E11: =(D11-D10)/ABS(D10) -> -1
A12: Octubre | E12: =(D12-D11)/ABS(D11) -> #DIV/0!
A13: Noviembre | E13: =(D13-D12)/ABS(D12) -> #DIV/0!
A14: Diciembre | E14: =(D14-D13)/ABS(D13) -> #DIV/0!
B15: =SUM(B3:B14) -> 48 | C15: =SUM(C3:C14) -> 124 | D15: =SUM(D3:D14) -> 126200
A19: COEX PSICOLOGÍA
A20: MES | B20: Primera | C20: Reconsulta | D20: Ventas | E20: Crecimiento
A21: Enero | B21: ='CONSULTAS PSICOLOGICAS'!I214 -> 3 | C21: ='CONSULTAS PSICOLOGICAS'!I215 -> 8 | D21: ='CONSULTAS PSICOLOGICAS'!E212 -> 3072.25 | E21: =(D21-2475)/ABS(2475) -> 0.24131313
A22: Febrero | B22: ='CONSULTAS PSICOLOGICAS'!G194 -> 4 | C22: ='CONSULTAS PSICOLOGICAS'!G195 -> 11 | D22: ='CONSULTAS PSICOLOGICAS'!E192 -> 4189.5 | E22: =(D22-D21)/ABS(D21) -> 0.36365856
A23: Marzo | B23: ='CONSULTAS PSICOLOGICAS'!G170 -> 9 | C23: ='CONSULTAS PSICOLOGICAS'!G171 -> 6 | D23: ='CONSULTAS PSICOLOGICAS'!E168 -> 4490 | E23: =(D23-D22)/ABS(D22) -> 0.071726936
A24: Abril | B24: ='CONSULTAS PSICOLOGICAS'!G145 -> 4 | C24: ='CONSULTAS PSICOLOGICAS'!G146 -> 5 | D24: ='CONSULTAS PSICOLOGICAS'!E143 -> 2565 | E24: =(D24-D23)/ABS(D23) -> -0.42873051
A25: Mayo | B25: ='CONSULTAS PSICOLOGICAS'!G127 -> 3 | C25: ='CONSULTAS PSICOLOGICAS'!G128 -> 18 | D25: ='CONSULTAS PSICOLOGICAS'!E125 -> 6200 | E25: =(D25-D24)/ABS(D24) -> 1.417154
A26: Junio | B26: ='CONSULTAS PSICOLOGICAS'!G97 -> 1 | C26: ='CONSULTAS PSICOLOGICAS'!G98 -> 9 | D26: ='CONSULTAS PSICOLOGICAS'!E95 -> 2850 | E26: =(D26-D25)/ABS(D25) -> -0.54032258
A27: Julio | B27: ='CONSULTAS PSICOLOGICAS'!G77 -> 5 | C27: ='CONSULTAS PSICOLOGICAS'!G78 -> 11 | D27: ='CONSULTAS PSICOLOGICAS'!E75 -> 4360 | E27: =(D27-D26)/ABS(D26) -> 0.52982456
A28: Agosto | B28: ='CONSULTAS PSICOLOGICAS'!G52 -> 4 | C28: ='CONSULTAS PSICOLOGICAS'!G53 -> 9 | D28: ='CONSULTAS PSICOLOGICAS'!E50 -> 3705 | E28: =(D28-D27)/ABS(D27) -> -0.15022936
A29: Septiembre | E29: =(D29-D28)/ABS(D28) -> -1
A30: Octubre | E30: =(D30-D29)/ABS(D29) -> #DIV/0!
A31: Noviembre | E31: =(D31-D30)/ABS(D30) -> #DIV/0!
A32: Diciembre | E32: =(D32-D31)/ABS(D31) -> #DIV/0!
B33: =SUM(B21:B32) -> 33 | C33: =SUM(C21:C32) -> 77 | D33: =SUM(D21:D32) -> 31431.75

Sheet EXTRA
B1: Facturas Pendientes
B2: Mes: SEPTIEMBRE 2025
B3: EXTRAS (ingresos, egresos, medicamentos…)
A4: Fecha | B4: Artículo | C4: Paciente | D4: Total | E4: Forma de Pago | F4: Comentario
A6: 45904 | B6: Medicina | C6: Nery Gomez | D6: 210 | E6: Efectivo | F6: 14 haloperidol
A7: 45905 | B7: Certificado | C7: Elvin Larios | D7: 250 | E7: Transferencia
A8: 45905 | B8: Medicina | C8: Elvin Larios | D8: 140 | E8: Transferencia | F8: 10 haloperidol
A9: 45909 | B9: Examenes | C9: Marvin Guerra | D9: 972 | E9: Efectivo
A10: 45925 | B10: Ingreso | C10: Hugo Arita | D10: 5000 | E10: Transferencia | F10: NIT: 7401930 Hugo Arita
D26: =SUM(D5:D25) -> 6572
B28: Mes: AGOSTO 2025
B29: EXTRAS (ingresos, egresos, medicamentos…)
A30: Fecha | B30: Artículo | C30: Paciente | D30: Total | E30: Forma de Pago | F30: Comentario
A32: 45875 | B32: Medicina | C32: Elvin Larios | D32: 140 | E32: Efectivo | F32: 10 haloperidol
A33: 45875 | B33: Examenes | C33: Rosa Osorio | D33: 315 | E33: Efectivo | F33: DPI, T3, T4, TSH, NIVEL VALPROATO
A34: 45877 | B34: Examen | C34: Iris Roda | D34: 10 | E34: Efectivo | F34: tira y lanceta
A35: 45877 | B35: Medicina | C35: Iris Roda | D35: 55 | E35: Efectivo | F35: 10 tab Trazodona 100 mg.
A36: 45887 | B36: Medicina | C36: Patricia Escobar | D36: 1250 | E36: Efectivo | F36: 50 leponex
A37: 45894 | B37: Medicina | C37: Elena Paiz | D37: 1150 | E37: Efectivo | F37: 50 leponex
D39: =SUM(D31:D38) -> 2920
B41: Mes: JULIO 2025
B42: EXTRAS (ingresos, egresos, medicamentos…)
A43: Fecha | B43: Artículo | C43: Paciente | D43: Total | E43: Forma de Pago | F43: Comentario
A44: 45841 | B44: Laboratorios | C44: Iskra Sosa | D44: 402 | E44: Efectivo | F44: NIT: 29015405 ( Nitrógeno de urea, creatinina, fosfatasa alcalina, TTSS, niveles de litio)
A45: 45841 | B45: Egreso | C45: Pablo Castillo | D45: 21377.44 | E45: Transferencia | F45: NIT: 2697971
A46: 45841 | B46: Egreso | C46: Rodolfo Morales | D46: 1090 | E46: Cheque | F46: NIT: 3231755
A47: 45842 | B47: Egreso | C47: Alan Jochola | D47: 8129.02 | E47: Efectivo | F47: NIT: 96278137
A48: 45842 | B48: Egreso | C48: Milton Barillas | D48: Q.3.77 | E48: Transferencia | F48: NIT: 8074898
A49: 45842 | B49: Egreso | C49: Jean Carlo Gómez | D49: 17424 | E49: Transferencia | F49: NIT: 12560383
A50: 45845 | B50: Medicamento | C50: Pablo Castillo | D50: Q.319.50 | E50: Transferencia | F50: NIT: 2697971
A51: 45847 | B51: Certificado Medico | C51: Hector Galindo | D51: 250 | E51: Transferencia cuenta Dr. | F51: NIT:107114542
A52: 45849 | B52: Ingreso | C52: Enrique Cotuc | D52: 5000 | E52: Efectivo | F52: NIT: 94487782
A53: 45852 | B53: Ingreso | C53: Marielos Quiroa | D53: 10000 | E53: Transferencia | F53: NIT: 7770408
A54: 45859 | B54: Egreso | C54: Stavroula Georgostathis | D54: 12523.54 | E54: Efectivo | F54: NIT: 5379059
A55: 45860 | B55: Medicina | C55: Mercedes Godinez | D55: 870 | E55: Efectivo | F55: CF (Luvox 30 tabletas)
A56: 45861 | B56: Ingreso | C56: Walter Molina | D56: 5000 | E56: Transferencia | F56: NIT: 7296231
A57: 45862 | B57: Medicina | C57: Elvin Larios | D57: 420 | E57: Transferencia | F57: 30 haloperidol
D59: =SUM(D44:D58) -> 82486
B61: Mes: JUNIO 2025
B62: EXTRAS (ingresos, egresos, medicamentos…)
...

Sheet VISITAS
A1: MAYO
A2: Lunes | B2: Martes | C2: Miercoles | D2: Jueves | E2: Viernes | F2: Sabado | G2: Domingo | J2: Fines de semana | L2: Cronicos
D3: 1 | E3: 2 Barbara 10:00 a.m. | F3: 3 Abner 11:00 a.m. Doña Elida 3:00 p.m. | G3: 4 | J3: Entre Semana | L3: Agudos y cronicos
A4: 5 | B4: 6 Martita 10:30 a.m. | C4: 7 | D4: 8 | E4: 9 Barbara 10:00 a.m. | F4: 10 Abner 11:00 a.m. | G4: 11
A5: 12 | B5: 13 | C5: 14 | D5: 15 | E5: 16 | F5: 17 | G5: 18
A6: 19 | B6: 20 | C6: 21 | D6: 22 | E6: 23 | F6: 24 | G6: 25 | M6: w
A7: 26 | B7: 27 | C7: 28 | D7: 29 | E7: 30 | F7: 31
A9: ENERO
A10: Lunes | B10: Martes | C10: Miercoles | D10: Jueves | E10: Viernes | F10: Sabado | G10: Domingo | J10: Fines de semana | L10: Cronicos
C11: 1 | D11: 2 | E11: 3 Barbara Rivera 10:00 Linda Mendoza 12:00 pm | F11: 4 Abner Moctezuma 11:00 am Angel Samayoa 14:00 | G11: 5 | J11: Entre Semana | L11: Agudos y cronicos
A12: 6 | B12: 7 | C12: 8 | D12: 9 | E12: 10 | F12: 11 | G12: 12
A13: 13 | B13: 14 Mercedes Godinez 10:00 | C13: 15 | D13: 16 | E13: 17 | F13: 18 | G13: 19
A14: 20 | B14: 21 | C14: 22 | D14: 23 | E14: 24 | F14: 25 | G14: 26 | M14: w
A15: 27 | B15: 28 | C15: 29 | D15: 30 | E15: 31
