Workbook

Sheet CONSULTAS DR.
A1: Atendido | B1: Consultas Psiquiatricas EXTERNAS
A2: No Atendido | B2: Mes: PRIMER SEMESTRE 2026
A3: MAYO
A4: Fecha | B4: Hora | C4: Paciente | D4: Total | E4: Forma de Pago | F4: Comentario | H4: Tipo de consulta | I4: Tipo
A5: 46146 | B5: 0.5625 | C5: Cedric | D5: 650 | E5: Transferencia | F5: pago en Abril 236331 | H5: Individual | I5: Primera
A6: 46117 | B6: 0.66666667 | C6: Edgar Nistal | D6: 650 | E6: Transferencia | F6: nit 17825849 | H6: Individual | I6: Primera
A7: 46148 | B7: 0.58333333 | C7: Gerardo Caal | D7: 650 | E7: Transferencia | H7: Individual | I7: {=_xlfn.IFS(D7<=700,"Seguimiento",D7=800,"Primera")} -> Seguimiento
A8: 46148 | B8: 0.625 | C8: Carlos Hernández | D8: 650 | E8: Efectivo | F8: NIT 10113851 | H8: Individual | I8: {=_xlfn.IFS(D8<=700,"Seguimiento",D8=800,"Primera")} -> Seguimiento
A9: 46148 | B9: 0.66666667 | C9: Melida Heredia | D9: 650 | E9: Deposito | F9: VIRTUAL | H9: Individual | I9: {=_xlfn.IFS(D9<=700,"Seguimiento",D9=800,"Primera")} -> Seguimiento
A10: 46156 | B10: 0.5 | C10: Edgar Nistal | D10: 650 | E10: Transferencia | F10: CASA COLMENA | H10: Individual | I10: {=_xlfn.IFS(D10<=700,"Seguimiento",D10=800,"Primera")} -> Seguimiento
A11: 46156 | B11: 0.66666667 | C11: Elder Alvarez | D11: 650 | E11: Transferencia | H11: Individual | I11: {=_xlfn.IFS(D11<=700,"Seguimiento",D11=800,"Primera")} -> Seguimiento
I12: {=_xlfn.IFS(D12<=700,"Seguimiento",D12=800,"Primera")} -> Seguimiento
I13: {=_xlfn.IFS(D13<=700,"Seguimiento",D13=800,"Primera")} -> Seguimiento
I14: {=_xlfn.IFS(D14<=700,"Seguimiento",D14=800,"Primera")} -> Seguimiento
I15: {=_xlfn.IFS(D15<=700,"Seguimiento",D15=800,"Primera")} -> Seguimiento
I16: {=_xlfn.IFS(D16<=700,"Seguimiento",D16=800,"Primera")} -> Seguimiento
I17: {=_xlfn.IFS(D17<=700,"Seguimiento",D17=800,"Primera")} -> Seguimiento
I18: {=_xlfn.IFS(D18<=700,"Seguimiento",D18=800,"Primera")} -> Seguimiento
I19: {=_xlfn.IFS(D19<=700,"Seguimiento",D19=800,"Primera")} -> Seguimiento
I20: {=_xlfn.IFS(D20<=700,"Seguimiento",D20=800,"Primera")} -> Seguimiento
I21: {=_xlfn.IFS(D21<=700,"Seguimiento",D21=800,"Primera")} -> Seguimiento
I22: {=_xlfn.IFS(D22<=700,"Seguimiento",D22=800,"Primera")} -> Seguimiento
I23: {=_xlfn.IFS(D23<=700,"Seguimiento",D23=800,"Primera")} -> Seguimiento
... I45: {=_xlfn.IFS(D45<=700,"Seguimiento",D45=800,"Primera")} -> Seguimiento
C46: TOTAL | D46: =SUM(D5:D45) -> 4550
E47: Individual | F47: =COUNTIF(H5:H45,E47) -> 7 | G47: Seguimiento | H47: =COUNTIF(I5:I45,G47) -> 39
C48: =5*200 -> 1000 | E48: Pareja | F48: =COUNTIF(H5:H45,E48) -> 0 | G48: Primera | H48: =COUNTIF(I5:I45,G48) -> 2
C49: 350 | E49: Familiar | F49: =COUNTIF(H5:H45,E49) -> 0
C50: =SUM(C48:C49) -> 1350
A52: ABRIL
A53: Fecha | B53: Hora | C53: Paciente | D53: Total | E53: Forma de Pago | F53: Comentario | H53: Tipo de consulta | I53: Tipo
A54: 46119 | B54: 0.875 | C54: Catherine Mazariegos | F54: INGRESO | I54: {=_xlfn.IFS(D54<=700,"Seguimiento",D54=800,"Primera")} -> Seguimiento
A55: 46125 | B55: 0.54166667 | C55: Elsa Fuentes | F55: INGRESO | I55: Primera
A56: 46125 | B56: 0.54166667 | C56: José Maldonado | D56: 650 | E56: Transferencia | H56: Individual | I56: Primera
A57: 46125 | B57: 0.625 | C57: Cayetano Lopez | D57: 400 | E57: Transferencia | F57: CF | H57: Individual | I57: Primera
A58: 46125 | B58: 0.64583333 | C58: Juana Reynoso | D58: 400 | E58: Transferencia | F58: CF | H58: Individual | I58: Primera
A59: 46126 | B59: 0.66666667 | C59: Andrea Espinoza | D59: 650 | E59: Transferencia | H59: Individual | I59: Primera
A60: 46132 | B60: 0.47569444 | C60: Juana Reynoso | D60: 650 | E60: Transferencia | H60: Individual | I60: {=_xlfn.IFS(D60<=700,"Seguimiento",D60=800,"Primera")} -> Seguimiento
A61: 46132 | B61: 0.58333333 | C61: Faustino Gonzalez | D61: 650 | E61: Transferencia | H61: Individual | I61: Primera
A62: 46133 | B62: 0.625 | C62: Carlos Samayo | D62: 650 | E62: Efectivo | F62: NIT 10113851 | H62: Individual | I62: Primera
...

Sheet CONSULTAS PSICOLOGICAS
A1: Consultas Psicologicas EXTERNA | L1: Individual | M1: 285
A2: PRIMER SEMESTRE 2026 | L2: Pareja | M2: 500
A3: MAYO | L3: Familiar | M3: 500
A4: Fecha | B4: Hora | C4: Paciente | D4: Tipo de Consulta | E4: Total | F4: Forma de Pago | G4: Comentario | I4: Tipo | J4: Terapeuta
A5: 46147 | B5: 0.45833333 | C5: Jonathan Juarez | D5: Individual | E5: 285 | F5: Efectivo | G5: NIT 115240039 | I5: Seguimiento | J5: Jose
A6: 46147 | B6: 0.5 | C6: Erika Gutierrez | D6: Individual | E6: 285 | F6: Efectivo | I6: Seguimiento | J6: Jose
A7: 46148 | B7: 0.38194444 | C7: Alejandro Cancino | D7: Individual | E7: 285 | F7: Transferencia | I7: Seguimiento | J7: Tzuny
A8: 46148 | B8: 0.41666667 | C8: Marlon Coleman | D8: Individual | E8: 285 | F8: Transferencia | I8: Seguimiento | J8: Tzuny
A9: 46149 | B9: 0.33333333 | C9: Gerardo Caal | D9: Individual | E9: 285 | F9: Transferencia | I9: Seguimiento | J9: Tzuny
A10: 46149 | B10: 0.50694444 | C10: Evangelina Gonzalez | D10: Individual | E10: 285 | F10: Transferencia | I10: Seguimiento | J10: Tzuny
A11: 46149 | B11: 0.58333333 | C11: Lourdes Quiñonez | D11: Individual | E11: 285 | F11: Transferencia | G11: CF | I11: Seguimiento | J11: Tzuny
A12: 46150 | B12: 0.45833333 | C12: Estuardo Barrios | D12: Individual | E12: 285 | F12: Transferencia | I12: Primera | J12: Tzuny
A13: 46150 | B13: 0.625 | C13: Fernanda Higueros | D13: Individual | E13: 285 | F13: Transferencia | I13: Seguimiento | J13: Tzuny
A14: 46151 | B14: 0.35416667 | C14: Nahomy Blanco | D14: Individual | E14: 285 | F14: Transferencia | I14: Seguimiento | J14: Jose
A15: 46151 | B15: 0.41666667 | C15: Valeria Menceces | D15: Individual | E15: 285 | F15: Transferencia | I15: Primera | J15: Jose
A16: 46151 | B16: 0.45833333 | C16: Janidy Perez | D16: Individual | E16: 285 | F16: Transferencia | I16: Primera | J16: Jose
A17: 46155 | B17: 0.375 | C17: Alejandro Cancino | D17: Individual | E17: 285 | F17: Tarjeta | I17: Seguimiento | J17: Tzuny
A18: 46155 | B18: 0.41666667 | C18: Jonathan Juarez | D18: Individual | E18: 285 | F18: Efectivo | I18: Seguimiento | J18: Jose
A19: 46155 | B19: 0.45833333 | C19: Erika Gutierrez | D19: Individual | E19: 285 | F19: Tarjeta | I19: Seguimiento | J19: Jose
A20: 46156 | B20: 0.51736111 | C20: José Fuentes | D20: Individual | E20: 285 | F20: Efectivo | I20: Seguimiento | J20: Tzuny
A21: 46156 | B21: 0.68402778 | C21: Lourdes Quiñonez | D21: Individual | E21: 285 | F21: Transferencia | I21: Seguimiento | J21: Tzuny
A22: 46157 | B22: 0.45833333 | C22: Estuardo Barrios | D22: Individual | E22: 285 | F22: Transferencia | G22: VIRTUAL | I22: Seguimiento | J22: Tzuny
D37: TOTAL | E37: =SUM(E5:E36) -> 5130 | G37: =((G40*285)*15%) -> 641.25
C39: Individual | D39: =COUNTIF(D5:D36,C39) -> 18 | F39: Primera | G39: =COUNTIF(I5:I36,F39) -> 3 | I39: Jose | J39: =COUNTIF(J5:J36,I39) -> 7
C40: Familiar | D40: =COUNTIF(D5:D36,C40) -> 0 | F40: Seguimiento | G40: =COUNTIF(I5:I37,F40) -> 15 | I40: Tzuny | J40: =COUNTIF(J5:J36,I40) -> 11
C41: Pareja | D41: =COUNTIF(D5:D36,C41) -> 0 | G41: =G40*41 -> 615
A44: ABRIL | L44: Familiar | M44: 500
A45: Fecha | B45: Hora | C45: Paciente | D45: Tipo de Consulta | E45: Total | F45: Forma de Pago | G45: Comentario | I45: Tipo | J45: Terapeuta
A47: 46119 | B47: 0.41666667 | C47: Abner Alvarado | D47: Individual | E47: 285 | F47: Efectivo | G47: NIT CF | I47: Seguimiento | J47: Tzuny
A48: 46119 | B48: 0.59027778 | C48: Bryan Jordan | D48: Individual | E48: 285 | F48: Tarjeta | G48: NIT 240119150 | I48: Primera | J48: Tzuny
A49: 46120 | B49: 0.33333333 | C49: Eduardo Guillen | D49: Individual | E49: 285 | F49: Transferencia | G49: RECIBO | I49: Seguimiento | J49: Tzuny
A50: 46120 | B50: 0.41666667 | C50: Marlon Coleman | D50: Individual | E50: 285 | F50: Transferencia | I50: Seguimiento | J50: Tzuny
A51: 46121 | B51: 0.63194444 | C51: Andrea Fernanda Higueros | D51: Individual | E51: 285 | F51: Transferencia | G51: NIT 98673300 | I51: Seguimiento | J51: Tzuny
A52: 46121 | B52: 0.67708333 | C52: Sindy Polanco | D52: Individual | E52: 285 | F52: Tarjeta | G52: solicitar pago a edgar | I52: Seguimiento | J52: Tzuny
A53: 46122 | B53: 0.45833333 | C53: Melanie Zuñiga | D53: Individual | E53: 285 | F53: Transferencia | I53: Seguimiento | J53: Tzuny
A54: 46123 | B54: 0.375 | C54: Nahomy Blanco | D54: Individual | E54: 285 | F54: Transferencia | I54: Seguimiento | J54: Jose
A55: 46125 | B55: 0.625 | C55: Adriana Reyes | D55: Individual | E55: 282 | F55: Transferencia | I55: Seguimiento | J55: Tzuny
A56: 46126 | B56: 0.59722222 | C56: Abner Alvarado | D56: Familiar | E56: 500 | F56: Efectivo | I56: Seguimiento | J56: Tzuny
A57: 46127 | B57: 0.30555556 | C57: Bryan Jordan | D57: Individual | E57: 285 | F57: Tarjeta | G57: NIT 240119150 | I57: Seguimiento | J57: Tzuny
A58: 46127 | B58: 0.4375 | C58: José Enrique Fuentes | D58: Individual | E58: 285 | F58: Efectivo | I58: Seguimiento | J58: Tzuny
...

Sheet Resumen
A1: COEX Doctor Luis Dardón
A2: MES | B2: Primera | C2: Reconsulta | D2: Ventas | E2: Crecimiento
A3: Enero | B3: ='CONSULTAS DR.'!H184 -> 10 | C3: ='CONSULTAS DR.'!H183 -> 21 | D3: ='CONSULTAS DR.'!D182 -> 21200 | E3: =(D3-20500)/ABS(20500) -> 0.034146341
A4: Febrero | B4: ='CONSULTAS DR.'!H145 -> 8 | C4: ='CONSULTAS DR.'!H144 -> 22 | D4: ='CONSULTAS DR.'!D143 -> 22150 | E4: =(D4-D3)/ABS(D3) -> 0.044811321
A5: Marzo | E5: =(D5-D4)/ABS(D4) -> -1
A6: Abril | E6: =(D6-D5)/ABS(D5) -> #DIV/0!
A7: Mayo | E7: =(D7-D6)/ABS(D6) -> #DIV/0!
A8: Junio | E8: =(D8-D7)/ABS(D7) -> #DIV/0!
A9: Julio | E9: =(D9-D8)/ABS(D8) -> #DIV/0!
A10: Agosto | E10: =(D10-D9)/ABS(D9) -> #DIV/0!
A11: Septiembre | E11: =(D11-D10)/ABS(D10) -> #DIV/0!
A12: Octubre | E12: =(D12-D11)/ABS(D11) -> #DIV/0!
A13: Noviembre | E13: =(D13-D12)/ABS(D12) -> #DIV/0!
A14: Diciembre | E14: =(D14-D13)/ABS(D13) -> #DIV/0!
B15: =SUM(B3:B14) -> 18 | C15: =SUM(C3:C14) -> 43 | D15: =SUM(D3:D14) -> 43350
A19: COEX PSICOLOGÍA
A20: MES | B20: Primera | C20: Reconsulta | D20: Ventas | E20: Crecimiento
A21: Enero | B21: ='CONSULTAS PSICOLOGICAS'!G179 -> 9 | C21: ='CONSULTAS PSICOLOGICAS'!G180 -> 13 | D21: ='CONSULTAS PSICOLOGICAS'!E177 -> 6270 | E21: =(D21-3135)/ABS(3135) -> 1
A22: Febrero | B22: ='CONSULTAS PSICOLOGICAS'!G148 -> 7 | C22: ='CONSULTAS PSICOLOGICAS'!G149 -> 12 | D22: ='CONSULTAS PSICOLOGICAS'!E146 -> 5580 | E22: =(D22-D21)/ABS(D21) -> -0.11004785
A23: Marzo | E23: =(D23-D22)/ABS(D22) -> -1
A24: Abril | E24: =(D24-D23)/ABS(D23) -> #DIV/0!
A25: Mayo | E25: =(D25-D24)/ABS(D24) -> #DIV/0!
A26: Junio | E26: =(D26-D25)/ABS(D25) -> #DIV/0!
A27: Julio | E27: =(D27-D26)/ABS(D26) -> #DIV/0!
A28: Agosto | E28: =(D28-D27)/ABS(D27) -> #DIV/0!
A29: Septiembre | E29: =(D29-D28)/ABS(D28) -> #DIV/0!
A30: Octubre | E30: =(D30-D29)/ABS(D29) -> #DIV/0!
A31: Noviembre | E31: =(D31-D30)/ABS(D30) -> #DIV/0!
A32: Diciembre | E32: =(D32-D31)/ABS(D31) -> #DIV/0!
B33: =SUM(B21:B32) -> 16 | C33: =SUM(C21:C32) -> 25 | D33: =SUM(D21:D32) -> 11850

Sheet EXTRA
B1: Facturas Pendientes
B2: Mes: MAYO 2026
B3: EXTRAS (ingresos, egresos, medicamentos…)
A4: Fecha | B4: Artículo | C4: Paciente | D4: Total | E4: Forma de Pago | F4: Comentario
A5: 46146 | B5: Medicina | C5: Mercedes Godinez | D5: 300 | E5: Transferencia | F5: 12 TAB leponex CF
A6: 46147 | B6: Medicina | C6: Dr. Guillermo Ortega | D6: 225 | E6: Transferencia | F6: 5 ampollas Haloperidol
F29: 0
D30: =SUM(D5:D29) -> 525
B32: Mes: ABRIL 2026
B33: EXTRAS (ingresos, egresos, medicamentos…)
A34: Fecha | B34: Artículo | C34: Paciente | D34: Total | E34: Forma de Pago | F34: Comentario
A36: 46126 | B36: Certificado | C36: Andrea Espinoza | D36: 275 | E36: Transferencia
A37: 46132 | B37: Medicina | C37: Patricia Escobar | D37: 1250 | E37: Deposito | F37: 50 tableta leponex
A38: 46134 | B38: Certificado | C38: Tomas Chocoj | D38: 400 | E38: Transferencia
A39: 46136 | B39: Medicina | C39: Abraham Barrera | D39: 2500 | E39: Transferencia | F39: 100 tableta leponex
F40: 0
D41: =SUM(D35:D40) -> 4425
B43: Mes: ENERO 2026
B44: EXTRAS (ingresos, egresos, medicamentos…)
A45: Fecha | B45: Artículo | C45: Paciente | D45: Total | E45: Forma de Pago | F45: Comentario
A46: 46025 | B46: Egreso | C46: Dalila Mendez | D46: 8232.16 | E46: Efectivo
A47: 46027 | B47: Egreso | C47: Stavroula | D47: 4947.13 | E47: Tarjeta
A48: 46029 | B48: Egreso | C48: Luis Pedro Ponce | D48: 8500 | E48: Tarjeta
D49: 11107 | E49: Transferencia
A50: 46029 | B50: Medicamento | C50: Luis Pedro Ponce | D50: 820 | E50: Tarjeta | F50: =SUM(D50:D51) -> 840
D51: 20 | E51: Efectivo
A52: 46030 | B52: Egreso | C52: Javier Letrán | D52: 10000 | E52: Tarjeta
A53: 46031 | B53: Estadía | C53: Osmar Marroquín | D53: 300 | E53: Visa Link | F53: NIT: 57428611
A54: 46031 | B54: Egreso | C54: Karina Coronado | D54: 5338.17 | E54: Tarjeta
A55: 46031 | B55: Egreso | C55: Osbaldo Perez | D55: 3483.65 | E55: Tarjeta
A56: 46036 | B56: Mensualidad | C56: Josue Ramirez | D56: 12762.95 | E56: Cheque-Tarjeta | F56: NIT: 89454014
A57: 46041 | B57: Informe y certificados | C57: Osbaldo Perez | D57: 1275 | E57: Transferencia
A58: 46045 | B58: Mecidamento | C58: Abraham Parrera | D58: 3750 | E58: Transferencia | F58: 3 cajas de leponex
A59: 46045 | B59: Medicamento | C59: Isaac Castellanos | D59: 285 | E59: Efectivo | F59: 1 decatensol y 1 jeringa
A60: 46048 | B60: Examenes | C60: Claudia Corina Ramirez | D60: 406 | E60: Efectivo | F60: Perifl Lipidico
A61: 46053 | B61: Medicamento | C61: Osmar Marroquín | D61: 420 | E61: Tarjeta | F61: 30 tableta Haloperidol
A62: 46053 | B62: Internamiento | C62: Osmar Marroquín | D62: 1500 | E62: Tarjeta | F62: 5 dias
A63: 46053 | B63: Internamiento | C63: Osmar Marroquín | D63: 300 | E63: Tarjeta | F63: 1 día
D71: =SUM(D46:D70) -> 73447.06
B118: Mes: OCTUBRE 2024
...

Sheet VISITAS
A1: MAYO
A2: Lunes | B2: Martes | C2: Miercoles | D2: Jueves | E2: Viernes | F2: Sabado | G2: Domingo | J2: Fines de semana | L2: Cronicos
E3: 1 Barbara 10:00 a.m. | F3: 2 Abner 11:00 a.m. Doña Elida 3:00 p.m. | G3: 3 | J3: Entre Semana | L3: Agudos y cronicos
A4: 5 | B4: 6 Martita 10:30 a.m. | C4: 7 | D4: 8 | E4: 9 Barbara 10:00 a.m. | F4: 10 Abner 11:00 a.m. | G4: 11
A5: 12 | B5: 13 | C5: 14 | D5: 15 | E5: 16 | F5: 17 | G5: 18
A6: 19 | B6: 20 | C6: 21 | D6: 22 | E6: 23 | F6: 24 | G6: 25 | M6: w
A7: 26 | B7: 27 | C7: 28 | D7: 29 | E7: 30 | F7: 31
A9: ENERO
A10: Lunes | B10: Martes | C10: Miercoles | D10: Jueves | E10: Viernes | F10: Sabado | G10: Domingo | J10: Fines de semana | L10: Cronicos
C11: 1 | D11: 2 | E11: 3 Barbara Rivera 10:00 Linda Mendoza 12:00 pm | F11: 4 Abner Moctezuma 11:00 am Angel Samayoa 14:00 | G11: 5 | J11: Entre Semana | L11: Agudos y cronicos
A12: 6 | B12: 7 | C12: 8 | D12: 9 | E12: 10 | F12: 11 | G12: 12
A13: 13 | B13: 14 Mercedes Godinez 10:00 | C13: 15 | D13: 16 | E13: 17 | F13: 18 | G13: 19
A14: 20 | B14: 21 | C14: 22 | D14: 23 | E14: 24 | F14: 25 | G14: 26 | M14: w
A15: 27 | B15: 28 | C15: 29 | D15: 30 | E15: 31
